BEGIN:VCALENDAR
VERSION:2.0
PRODID:-//eventon.com NONSGML v1.0//EN
CALSCALE:GREGORIAN
METHOD:PUBLISH
BEGIN:VEVENT
UID:69e9f2c9453df
DTSTAMP:20260423T102201Z
DTSTART:20260227T164500Z
DTEND:20260227T180000Z
LOCATION:
SUMMARY:February Luncheon
DESCRIPTION:February Luncheon\nhttps://osceolabar.org/events/february-lunch
 eon-2/
URL:https://osceolabar.org/events/february-luncheon-2/
END:VEVENT
END:VCALENDAR