BEGIN:VCALENDAR
VERSION:2.0
PRODID:-//eventon.com NONSGML v1.0//EN
CALSCALE:GREGORIAN
METHOD:PUBLISH
BEGIN:VEVENT
UID:69e4e99a65147
DTSTAMP:20260419T144130Z
DTSTART:20160520T154500Z
DTEND:20160520T170000Z
LOCATION:Jury Room
SUMMARY:May Luncheon
DESCRIPTION:Join the Osceola County Bar Association for our May meeting! Ka
 trina Scarborough\,  the Osceola County Property Appraiser\,  will be discu
 ssing all the ways that attorneys can utilize her office. Baja Burrito will
  be served for lunch &#8211; hope to see you there.\nhttps://osceolabar.org
 /events/may-luncheon-2/
URL:https://osceolabar.org/events/may-luncheon-2/
END:VEVENT
END:VCALENDAR