BEGIN:VCALENDAR
VERSION:2.0
PRODID:-//eventon.com NONSGML v1.0//EN
CALSCALE:GREGORIAN
METHOD:PUBLISH
BEGIN:VEVENT
UID:69e9dc02f2955
DTSTAMP:20260423T084450Z
DTSTART:20200114T180000Z
DTEND:20200115T010000Z
LOCATION:
SUMMARY:CFGALLA: Joint Voluntary Bar Event - Come Out with Pride 2019
DESCRIPTION:Join CFGALLA and members of other local voluntary bar associati
 ons for our first annual joint voluntary bar event for Come Out with Pride 
 Orlando 2019. Registration is free for all members of local voluntary bar a
 ssociations\,  law students\,  and members of the judiciary. We will have o
 ur Voluntary BAR for[..]\nhttps://osceolabar.org/events/cfgalla-joint-volun
 tary-bar-event-come-out-with-pride-2019/
URL:https://osceolabar.org/events/cfgalla-joint-voluntary-bar-event-come-out-with-pride-2019/
END:VEVENT
END:VCALENDAR